BEGIN:VCALENDAR
PRODID:-//eluceo/ical//2.0/EN
VERSION:2.0
CALSCALE:GREGORIAN
BEGIN:VEVENT
UID:f1b18e6771fedeac08aef5671e52033f
DTSTAMP:20260422T194753Z
SUMMARY:Hotel Arte\, Restaurant Pure Café
DESCRIPTION:Web stranica: http://www.konferenzhotel.ch/de/Restaurants/pure-
 Restaurant
URL:https://rotary-olten.ch/bs/agenda/show/163208
DTSTART;TZID=Europe/Zurich:20230901T071500
DTEND;TZID=Europe/Zurich:20230901T080000
LOCATION:Hotel Arte\, Restaurant Pure Café
CATEGORIES:Rotary
END:VEVENT
BEGIN:VTIMEZONE
TZID:Europe/Zurich
BEGIN:DAYLIGHT
DTSTART:20230901T071500
TZNAME:CEST
TZOFFSETTO:+0200
TZOFFSETFROM:+0200
END:DAYLIGHT
END:VTIMEZONE
END:VCALENDAR
