BEGIN:VCALENDAR
PRODID:-//eluceo/ical//2.0/EN
VERSION:2.0
CALSCALE:GREGORIAN
BEGIN:VEVENT
UID:e3eaf4942311af3a0670952762cc7267
DTSTAMP:20260422T194920Z
SUMMARY:Hotel Arte\, Restaurant Pure Café
DESCRIPTION:Web stranica: http://www.konferenzhotel.ch/de/Restaurants/pure-
 Restaurant
URL:https://rotary-olten.ch/bs/agenda/show/163209
DTSTART;TZID=Europe/Zurich:20231006T071500
DTEND;TZID=Europe/Zurich:20231006T080000
LOCATION:Hotel Arte\, Restaurant Pure Café
CATEGORIES:Rotary
END:VEVENT
BEGIN:VTIMEZONE
TZID:Europe/Zurich
BEGIN:DAYLIGHT
DTSTART:20231006T071500
TZNAME:CEST
TZOFFSETTO:+0200
TZOFFSETFROM:+0200
END:DAYLIGHT
END:VTIMEZONE
END:VCALENDAR
