BEGIN:VCALENDAR
PRODID:-//eluceo/ical//2.0/EN
VERSION:2.0
CALSCALE:GREGORIAN
BEGIN:VEVENT
UID:9a4eee7fb5e41b43d88d68106174e8ed
DTSTAMP:20260422T200501Z
SUMMARY:Hotel Arte\, Restaurant Pure
DESCRIPTION:Web stranica: http://www.konferenzhotel.ch/de/Restaurants/pure-
 Restaurant\nGovornik(ci): Carlo Mathys (RC Gösgen-Niederamt)
URL:https://rotary-olten.ch/bs/agenda/show/163224
DTSTART;TZID=Europe/Zurich:20231116T061500
DTEND;TZID=Europe/Zurich:20231116T070000
LOCATION:Hotel Arte\, Restaurant Pure
CATEGORIES:Rotary
END:VEVENT
BEGIN:VTIMEZONE
TZID:Europe/Zurich
BEGIN:STANDARD
DTSTART:20231116T061500
TZNAME:CET
TZOFFSETTO:+0100
TZOFFSETFROM:+0100
END:STANDARD
END:VTIMEZONE
END:VCALENDAR
