BEGIN:VCALENDAR
PRODID:-//eluceo/ical//2.0/EN
VERSION:2.0
CALSCALE:GREGORIAN
BEGIN:VEVENT
UID:4e8130df00feaac0059d8cc1a7dcf058
DTSTAMP:20260422T183711Z
SUMMARY:Für Margrit Kaffee Weinbar Apéro
DESCRIPTION:Web stranica: https://fuermargrit.ch
URL:https://rotary-olten.ch/bs/agenda/show/180054
DTSTART;TZID=Europe/Zurich:20240710T180000
DTEND;TZID=Europe/Zurich:20240710T190000
LOCATION:Für Margrit
CATEGORIES:Rotary
END:VEVENT
BEGIN:VTIMEZONE
TZID:Europe/Zurich
BEGIN:DAYLIGHT
DTSTART:20240710T180000
TZNAME:CEST
TZOFFSETTO:+0200
TZOFFSETFROM:+0200
END:DAYLIGHT
END:VTIMEZONE
END:VCALENDAR
