BEGIN:VCALENDAR
PRODID:-//eluceo/ical//2.0/EN
VERSION:2.0
CALSCALE:GREGORIAN
BEGIN:VEVENT
UID:ec6640fe0f89d593b623022feaa0b90c
DTSTAMP:20260424T190029Z
SUMMARY:Plauderlunch
DESCRIPTION:
URL:https://rotary-olten.ch/bs/agenda/show/24115
DTSTART;TZID=Europe/Zurich:20120820T120000
DTEND;TZID=Europe/Zurich:20120820T120000
LOCATION:Bahnhofbuffet Olten\, 1. Stock
CATEGORIES:Rotary
END:VEVENT
BEGIN:VTIMEZONE
TZID:Europe/Zurich
BEGIN:DAYLIGHT
DTSTART:20120820T120000
TZNAME:CEST
TZOFFSETTO:+0200
TZOFFSETFROM:+0200
END:DAYLIGHT
END:VTIMEZONE
END:VCALENDAR
