BEGIN:VCALENDAR
PRODID:-//eluceo/ical//2.0/EN
VERSION:2.0
CALSCALE:GREGORIAN
BEGIN:VEVENT
UID:46d4fd7587dd8515bcb924604998983d
DTSTAMP:20260422T130319Z
SUMMARY:FHNW-Neubau Olten Besichtigung
DESCRIPTION:Partneranlass mit Besichtigung des neuen Campus der Fachhochsch
 ule Olten mit Apéro.  Separate Einladung.\nGovornik(ci): Ruedi Nützi
URL:https://rotary-olten.ch/bs/agenda/show/26291
DTSTART;TZID=Europe/Zurich:20121022T183000
DTEND;TZID=Europe/Zurich:20121022T183000
LOCATION:Fachhochschule Nordwestschweiz Olten
CATEGORIES:Rotary
END:VEVENT
BEGIN:VTIMEZONE
TZID:Europe/Zurich
BEGIN:DAYLIGHT
DTSTART:20121022T183000
TZNAME:CEST
TZOFFSETTO:+0200
TZOFFSETFROM:+0200
END:DAYLIGHT
END:VTIMEZONE
END:VCALENDAR
