BEGIN:VCALENDAR
PRODID:-//eluceo/ical//2.0/EN
VERSION:2.0
CALSCALE:GREGORIAN
BEGIN:VEVENT
UID:ffd7e2804528d0723df4a2c2f900d9d9
DTSTAMP:20260422T164440Z
SUMMARY:Gipfelitreffen
DESCRIPTION:
URL:https://rotary-olten.ch/bs/agenda/show/26293
DTSTART;TZID=Europe/Zurich:20121102T071500
DTEND;TZID=Europe/Zurich:20121102T071500
LOCATION:Restaurant Pure\, Olten
CATEGORIES:Rotary
END:VEVENT
BEGIN:VTIMEZONE
TZID:Europe/Zurich
BEGIN:STANDARD
DTSTART:20121102T071500
TZNAME:CET
TZOFFSETTO:+0100
TZOFFSETFROM:+0100
END:STANDARD
END:VTIMEZONE
END:VCALENDAR
