BEGIN:VCALENDAR
PRODID:-//eluceo/ical//2.0/EN
VERSION:2.0
CALSCALE:GREGORIAN
BEGIN:VEVENT
UID:1d471515dc85334a42dd2f5997fd0000
DTSTAMP:20260422T150024Z
SUMMARY:Jahresversammlung RC Olten
DESCRIPTION:
URL:https://rotary-olten.ch/bs/agenda/show/26296
DTSTART;TZID=Europe/Zurich:20121126T120000
DTEND;TZID=Europe/Zurich:20121126T120000
LOCATION:Restaurant Aarhof
CATEGORIES:Rotary
END:VEVENT
BEGIN:VTIMEZONE
TZID:Europe/Zurich
BEGIN:STANDARD
DTSTART:20121126T120000
TZNAME:CET
TZOFFSETTO:+0100
TZOFFSETFROM:+0100
END:STANDARD
END:VTIMEZONE
END:VCALENDAR
