BEGIN:VCALENDAR
PRODID:-//eluceo/ical//2.0/EN
VERSION:2.0
CALSCALE:GREGORIAN
BEGIN:VEVENT
UID:f0b69a707a4b5ad70c0adc2e40a09b38
DTSTAMP:20260422T145519Z
SUMMARY:Regio-Apéro
DESCRIPTION:
URL:https://rotary-olten.ch/bs/agenda/show/26297
DTSTART;TZID=Europe/Zurich:20121121T181500
DTEND;TZID=Europe/Zurich:20121121T181500
LOCATION:Hotel Olten
CATEGORIES:Rotary
END:VEVENT
BEGIN:VTIMEZONE
TZID:Europe/Zurich
BEGIN:STANDARD
DTSTART:20121121T181500
TZNAME:CET
TZOFFSETTO:+0100
TZOFFSETFROM:+0100
END:STANDARD
END:VTIMEZONE
END:VCALENDAR
