BEGIN:VCALENDAR
PRODID:-//eluceo/ical//2.0/EN
VERSION:2.0
CALSCALE:GREGORIAN
BEGIN:VEVENT
UID:4732a3251723b15e71fe8deb028eed6e
DTSTAMP:20260422T150146Z
SUMMARY:Regio-Apéro
DESCRIPTION:
URL:https://rotary-olten.ch/bs/agenda/show/27920
DTSTART;TZID=Europe/Zurich:20130116T181500
DTEND;TZID=Europe/Zurich:20130116T181500
LOCATION:Hotel Olten
CATEGORIES:Rotary
END:VEVENT
BEGIN:VTIMEZONE
TZID:Europe/Zurich
BEGIN:STANDARD
DTSTART:20130116T181500
TZNAME:CET
TZOFFSETTO:+0100
TZOFFSETFROM:+0100
END:STANDARD
END:VTIMEZONE
END:VCALENDAR
