BEGIN:VCALENDAR
PRODID:-//eluceo/ical//2.0/EN
VERSION:2.0
CALSCALE:GREGORIAN
BEGIN:VEVENT
UID:8e9c712b78e7c8d892713417407694b6
DTSTAMP:20260424T100659Z
SUMMARY:Fachhochschule Nordwestschweiz
DESCRIPTION:Govornik(ci): Ruedi Nützi
URL:https://rotary-olten.ch/bs/agenda/show/30119
DTSTART;TZID=Europe/Zurich:20130513T120000
DTEND;TZID=Europe/Zurich:20130513T120000
LOCATION:Restaurant Aarhof
CATEGORIES:Rotary
END:VEVENT
BEGIN:VTIMEZONE
TZID:Europe/Zurich
BEGIN:DAYLIGHT
DTSTART:20130513T120000
TZNAME:CEST
TZOFFSETTO:+0200
TZOFFSETFROM:+0200
END:DAYLIGHT
END:VTIMEZONE
END:VCALENDAR
