BEGIN:VCALENDAR
PRODID:-//eluceo/ical//2.0/EN
VERSION:2.0
CALSCALE:GREGORIAN
BEGIN:VEVENT
UID:7a9d7b5a6eebe3e0ad819ea9f65bcaa0
DTSTAMP:20260422T213425Z
SUMMARY:Alpine Architektur
DESCRIPTION:Govornik(ci): Florian Rickenbacher 
URL:https://rotary-olten.ch/bs/agenda/show/53794
DTSTART;TZID=Europe/Zurich:20150727T120000
DTEND;TZID=Europe/Zurich:20150727T120000
LOCATION:Restaurant Aarhof
CATEGORIES:Rotary
END:VEVENT
BEGIN:VTIMEZONE
TZID:Europe/Zurich
BEGIN:DAYLIGHT
DTSTART:20150727T120000
TZNAME:CEST
TZOFFSETTO:+0200
TZOFFSETFROM:+0200
END:DAYLIGHT
END:VTIMEZONE
END:VCALENDAR
