BEGIN:VCALENDAR
PRODID:-//eluceo/ical//2.0/EN
VERSION:2.0
CALSCALE:GREGORIAN
BEGIN:VEVENT
UID:2efb5f0f321cb899292fb10ea738ee02
DTSTAMP:20260423T011609Z
SUMMARY:Plauderlunch
DESCRIPTION:Govornik(ci): Achtung: Der Lunch findet im Restaurant statt.
URL:https://rotary-olten.ch/bs/agenda/show/53795
DTSTART;TZID=Europe/Zurich:20150803T120000
DTEND;TZID=Europe/Zurich:20150803T120000
LOCATION:Restaurant Aarhof
CATEGORIES:Rotary
END:VEVENT
BEGIN:VTIMEZONE
TZID:Europe/Zurich
BEGIN:DAYLIGHT
DTSTART:20150803T120000
TZNAME:CEST
TZOFFSETTO:+0200
TZOFFSETFROM:+0200
END:DAYLIGHT
END:VTIMEZONE
END:VCALENDAR
