BEGIN:VCALENDAR
PRODID:-//eluceo/ical//2.0/EN
VERSION:2.0
CALSCALE:GREGORIAN
BEGIN:VEVENT
UID:53362bb904de8b73dce858fb0d9b5f01
DTSTAMP:20260422T213257Z
SUMMARY:Chilbi-Lunch
DESCRIPTION:Govornik(ci): Fröscheweid-Zelt
URL:https://rotary-olten.ch/bs/agenda/show/53796
DTSTART;TZID=Europe/Zurich:20150810T120000
DTEND;TZID=Europe/Zurich:20150810T120000
LOCATION:Schützenmatte Olten
CATEGORIES:Rotary
END:VEVENT
BEGIN:VTIMEZONE
TZID:Europe/Zurich
BEGIN:DAYLIGHT
DTSTART:20150810T120000
TZNAME:CEST
TZOFFSETTO:+0200
TZOFFSETFROM:+0200
END:DAYLIGHT
END:VTIMEZONE
END:VCALENDAR
