BEGIN:VCALENDAR
PRODID:-//eluceo/ical//2.0/EN
VERSION:2.0
CALSCALE:GREGORIAN
BEGIN:VEVENT
UID:f5ff00e12637811f926536eba0969ac6
DTSTAMP:20260423T045732Z
SUMMARY:Plauderlunch
DESCRIPTION:
URL:https://rotary-olten.ch/bs/agenda/show/67016
DTSTART;TZID=Europe/Zurich:20161003T120000
DTEND;TZID=Europe/Zurich:20161003T120000
LOCATION:Restaurant Aarhof
CATEGORIES:Rotary
END:VEVENT
BEGIN:VTIMEZONE
TZID:Europe/Zurich
BEGIN:DAYLIGHT
DTSTART:20161003T120000
TZNAME:CEST
TZOFFSETTO:+0200
TZOFFSETFROM:+0200
END:DAYLIGHT
END:VTIMEZONE
END:VCALENDAR
