BEGIN:VCALENDAR
PRODID:-//eluceo/ical//2.0/EN
VERSION:2.0
CALSCALE:GREGORIAN
BEGIN:VEVENT
UID:66bb5eb8dd28f2c89072e3c470abb693
DTSTAMP:20260423T010147Z
SUMMARY:Aalen-Heidenheim - Kontaktclubtreffen 2015
DESCRIPTION:Ein Bilderbogen\nGovornik(ci): Joachim Klar
URL:https://rotary-olten.ch/bs/agenda/show/67759
DTSTART;TZID=Europe/Zurich:20161010T120000
DTEND;TZID=Europe/Zurich:20161010T120000
LOCATION:Restaurant Aarhof
CATEGORIES:Rotary
END:VEVENT
BEGIN:VTIMEZONE
TZID:Europe/Zurich
BEGIN:DAYLIGHT
DTSTART:20161010T120000
TZNAME:CEST
TZOFFSETTO:+0200
TZOFFSETFROM:+0200
END:DAYLIGHT
END:VTIMEZONE
END:VCALENDAR
