BEGIN:VCALENDAR
PRODID:-//eluceo/ical//2.0/EN
VERSION:2.0
CALSCALE:GREGORIAN
BEGIN:VEVENT
UID:07743983ada4036c38b8618c07770ff1
DTSTAMP:20260423T042450Z
SUMMARY:Regio Apéro
DESCRIPTION:Web stranica: http://www.hotelolten.ch/restaurant.html
URL:https://rotary-olten.ch/bs/agenda/show/73628
DTSTART;TZID=Europe/Zurich:20170517T180000
DTEND;TZID=Europe/Zurich:20170517T190000
LOCATION:Hotel Olten\, Restaurant &quot\;Holz&Stein&quot\;
CATEGORIES:Rotary
END:VEVENT
BEGIN:VTIMEZONE
TZID:Europe/Zurich
BEGIN:DAYLIGHT
DTSTART:20170517T180000
TZNAME:CEST
TZOFFSETTO:+0200
TZOFFSETFROM:+0200
END:DAYLIGHT
END:VTIMEZONE
END:VCALENDAR
