BEGIN:VCALENDAR
PRODID:-//eluceo/ical//2.0/EN
VERSION:2.0
CALSCALE:GREGORIAN
BEGIN:VEVENT
UID:f3d22096f318847b7a098945d3d74a07
DTSTAMP:20260423T055613Z
SUMMARY:Regio Apéro
DESCRIPTION:Web stranica: http://www.hotelolten.ch/restaurant.html
URL:https://rotary-olten.ch/bs/agenda/show/73629
DTSTART;TZID=Europe/Zurich:20170621T180000
DTEND;TZID=Europe/Zurich:20170621T190000
LOCATION:Hotel Olten\, Restaurant &quot\;Holz&Stein&quot\;
CATEGORIES:Rotary
END:VEVENT
BEGIN:VTIMEZONE
TZID:Europe/Zurich
BEGIN:DAYLIGHT
DTSTART:20170621T180000
TZNAME:CEST
TZOFFSETTO:+0200
TZOFFSETFROM:+0200
END:DAYLIGHT
END:VTIMEZONE
END:VCALENDAR
