BEGIN:VCALENDAR
PRODID:-//eluceo/ical//2.0/EN
VERSION:2.0
CALSCALE:GREGORIAN
BEGIN:VEVENT
UID:b571518f2970a71b53a5e93dec331b01
DTSTAMP:20260425T134521Z
SUMMARY:Rotarisches Gipfeli-Treffen
DESCRIPTION:Jeden ersten Freitag im Monat treffen sich Rotarierinnen und Ro
 tarier der Clubs aus Olten und Umgebung zu Kaffee und Gipfeli im Restauran
 t Pure (Hotel Arte) in Olten.\n\nGäste sind allzeit herzlich willkommen!
 \nWeb stranica: https://www.konferenzhotel.ch/de/Restaurants/pure-Restaura
 nt
URL:https://rotary-olten.ch/bs/agenda/show/73860
DTSTART;TZID=Europe/Zurich:20180302T071500
DTEND;TZID=Europe/Zurich:20180302T080000
LOCATION:Hotel Olten\, Restaurant Pure
CATEGORIES:Rotary
END:VEVENT
BEGIN:VTIMEZONE
TZID:Europe/Zurich
BEGIN:STANDARD
DTSTART:20180302T071500
TZNAME:CET
TZOFFSETTO:+0100
TZOFFSETFROM:+0100
END:STANDARD
END:VTIMEZONE
END:VCALENDAR
