BEGIN:VCALENDAR
PRODID:-//eluceo/ical//2.0/EN
VERSION:2.0
CALSCALE:GREGORIAN
BEGIN:VEVENT
UID:1804e77b47fc69c110875750aabe4537
DTSTAMP:20260423T071959Z
SUMMARY:Rotarischer Earlybird
DESCRIPTION:Alle rotarischen Frühaufsteher treffen sich am Donnerstag\, de
 n 16. November 2017 ab 06:20 Uhr im Restaurant Pure (Hotel Arte) in Olt
 en zum „Early Bird“\, unserem rotarischen Frühstück mit rotarischer 
 Inspiration.\n\nFreuen dürfen wir uns auf die Gedanken von Rotarierin Si
 mona Siegenthaler (RC Olten).\n\nDas Frühstücksbuffet à Diskretion kost
 et 25 Franken. Nur Kaffee- oder Teetrinker bezahlen\, was sie konsumieren.
 \nWeb stranica: https://www.konferenzhotel.ch/de/Restaurants/pure-Restaura
 nt\nGovornik(ci): Simona Siegenthaler (RC Olten)
URL:https://rotary-olten.ch/bs/agenda/show/80463
DTSTART;TZID=Europe/Zurich:20171116T062000
DTEND;TZID=Europe/Zurich:20171116T072000
LOCATION:Hotel Arte\, Restaurant Pure
CATEGORIES:Rotary
END:VEVENT
BEGIN:VTIMEZONE
TZID:Europe/Zurich
BEGIN:STANDARD
DTSTART:20171116T062000
TZNAME:CET
TZOFFSETTO:+0100
TZOFFSETFROM:+0100
END:STANDARD
END:VTIMEZONE
END:VCALENDAR
