BEGIN:VCALENDAR
PRODID:-//eluceo/ical//2.0/EN
VERSION:2.0
CALSCALE:GREGORIAN
BEGIN:VEVENT
UID:3fb77575c6afd42bd70c60e451b6e337
DTSTAMP:20260423T072241Z
SUMMARY:Rotarischer Earlybird
DESCRIPTION:Alle rotarischen Frühaufsteher treffen sich am Donnerstag\, de
 n 21. Dezember 2017 ab 06:20 Uhr im Restaurant Pure (Hotel Arte) in Olte
 n zum „Early Bird“\, unserem rotarischen Frühstück mit rotarischer I
 nspiration.\n\nFreuen dürfen wir uns auf die Gedanken von Rotarier Rolf S
 chmid (RC Olten).\n\nDas Frühstücksbuffet à Diskretion kostet 25 Franke
 n. Nur Kaffee- oder Teetrinker bezahlen\, was sie konsumieren.\nWeb strani
 ca: https://www.konferenzhotel.ch/de/Restaurants/pure-Restaurant\nGovornik
 (ci): Rolf Schmid (RC Olten)
URL:https://rotary-olten.ch/bs/agenda/show/82447
DTSTART;TZID=Europe/Zurich:20171221T062000
DTEND;TZID=Europe/Zurich:20171221T072000
LOCATION:Hotel Arte\, Restaurant Pure
CATEGORIES:Rotary
END:VEVENT
BEGIN:VTIMEZONE
TZID:Europe/Zurich
BEGIN:STANDARD
DTSTART:20171221T062000
TZNAME:CET
TZOFFSETTO:+0100
TZOFFSETFROM:+0100
END:STANDARD
END:VTIMEZONE
END:VCALENDAR
