BEGIN:VCALENDAR
PRODID:-//eluceo/ical//2.0/EN
VERSION:2.0
CALSCALE:GREGORIAN
BEGIN:VEVENT
UID:5bf52328fe057b66ec83fef522a8ae93
DTSTAMP:20260423T072311Z
SUMMARY:Rotarischer Earlybird
DESCRIPTION:Alle rotarischen Frühaufsteher treffen sich am Donnerstag\, de
 n 18. Januar 2018 ab 06:20 Uhr im Restaurant Pure (Hotel Arte) in Olten z
 um „Early Bird“\, unserem rotarischen Frühstück mit rotarischer Insp
 iration.\n\nDas Frühstücksbuffet à Diskretion kostet 25 Franken. Nur Ka
 ffee- oder Teetrinker bezahlen\, was sie konsumieren.\nWeb stranica: https
 ://www.konferenzhotel.ch/de/Restaurants/pure-Restaurant\nGovornik(ci): Ret
 o Spiegel (RC Gösgen-Niederamt)
URL:https://rotary-olten.ch/bs/agenda/show/82448
DTSTART;TZID=Europe/Zurich:20180118T062000
DTEND;TZID=Europe/Zurich:20180118T072000
LOCATION:Hotel Arte\, Restaurant Pure
CATEGORIES:Rotary
END:VEVENT
BEGIN:VTIMEZONE
TZID:Europe/Zurich
BEGIN:STANDARD
DTSTART:20180118T062000
TZNAME:CET
TZOFFSETTO:+0100
TZOFFSETFROM:+0100
END:STANDARD
END:VTIMEZONE
END:VCALENDAR
