BEGIN:VCALENDAR
PRODID:-//eluceo/ical//2.0/EN
VERSION:2.0
CALSCALE:GREGORIAN
BEGIN:VEVENT
UID:916743bef8212e6f523764c8cefe6ef7
DTSTAMP:20260425T120043Z
SUMMARY:Plauderlunch
DESCRIPTION:
URL:https://rotary-olten.ch/bs/agenda/show/84239
DTSTART;TZID=Europe/Zurich:20180319T120000
DTEND;TZID=Europe/Zurich:20180319T140000
LOCATION:Restaurant Aarhof
CATEGORIES:Rotary
END:VEVENT
BEGIN:VTIMEZONE
TZID:Europe/Zurich
BEGIN:STANDARD
DTSTART:20180319T120000
TZNAME:CET
TZOFFSETTO:+0100
TZOFFSETFROM:+0100
END:STANDARD
END:VTIMEZONE
END:VCALENDAR
