BEGIN:VCALENDAR
PRODID:-//eluceo/ical//2.0/EN
VERSION:2.0
CALSCALE:GREGORIAN
BEGIN:VEVENT
UID:7ef4197596a9460c48acfc8dabff80ac
DTSTAMP:20260425T134913Z
SUMMARY:Rotarischer Earlybird
DESCRIPTION:Alle rotarischen Frühaufsteher treffen sich am Donnerstag\, de
 n 21. März 2019 ab 06:20 Uhr im Restaurant Pure (Hotel Arte) in Olten zu
 m „Early Bird“\, unserem rotarischen Frühstück mit rotarischer Inspi
 ration.\n\nDas Frühstücksbuffet à Diskretion kostet 25 Franken. Nur Kaf
 fee- oder Teetrinker bezahlen\, was sie konsumieren.\nWeb stranica: http:/
 /www.konferenzhotel.ch/de/Restaurants/pure-Restaurant\nGovornik(ci): Rotar
 ier Stefan Nünlist
URL:https://rotary-olten.ch/bs/agenda/show/89520
DTSTART;TZID=Europe/Zurich:20190321T062000
DTEND;TZID=Europe/Zurich:20190321T072000
LOCATION:Hotel Arte\, Restaurant Pure
CATEGORIES:Rotary
END:VEVENT
BEGIN:VTIMEZONE
TZID:Europe/Zurich
BEGIN:STANDARD
DTSTART:20190321T062000
TZNAME:CET
TZOFFSETTO:+0100
TZOFFSETFROM:+0100
END:STANDARD
END:VTIMEZONE
END:VCALENDAR
