BEGIN:VCALENDAR
PRODID:-//eluceo/ical//2.0/EN
VERSION:2.0
CALSCALE:GREGORIAN
BEGIN:VEVENT
UID:ee90387b8ce6f51a727b6aad816cd424
DTSTAMP:20260422T174432Z
SUMMARY:107. Rotary Earlybird
DESCRIPTION:Webseite: http://www.konferenzhotel.ch/de/Restaurants/pure-Rest
 aurant
URL:https://rotary-olten.ch/de/agenda/show/194753
DTSTART;TZID=Europe/Zurich:20260416T061500
DTEND;TZID=Europe/Zurich:20260416T070000
LOCATION:Hotel Arte\, Restaurant Pure
CATEGORIES:Rotary
END:VEVENT
BEGIN:VTIMEZONE
TZID:Europe/Zurich
BEGIN:DAYLIGHT
DTSTART:20260416T061500
TZNAME:CEST
TZOFFSETTO:+0200
TZOFFSETFROM:+0200
END:DAYLIGHT
END:VTIMEZONE
END:VCALENDAR
