BEGIN:VCALENDAR
PRODID:-//eluceo/ical//2.0/EN
VERSION:2.0
CALSCALE:GREGORIAN
BEGIN:VEVENT
UID:1c638839939cbc13098b90c236494494
DTSTAMP:20260426T020405Z
SUMMARY:BBZ-Preisträger 2012
DESCRIPTION:Referenten/innen: David Jäggi
URL:https://rotary-olten.ch/de/agenda/show/27922
DTSTART;TZID=Europe/Zurich:20130128T120000
DTEND;TZID=Europe/Zurich:20130128T120000
LOCATION:Restaurant Aarhof
CATEGORIES:Rotary
END:VEVENT
BEGIN:VTIMEZONE
TZID:Europe/Zurich
BEGIN:STANDARD
DTSTART:20130128T120000
TZNAME:CET
TZOFFSETTO:+0100
TZOFFSETFROM:+0100
END:STANDARD
END:VTIMEZONE
END:VCALENDAR
