BEGIN:VCALENDAR
PRODID:-//eluceo/ical//2.0/EN
VERSION:2.0
CALSCALE:GREGORIAN
BEGIN:VEVENT
UID:14fc54fc2a9514bfe989faa6f4b653ce
DTSTAMP:20260425T213209Z
SUMMARY:Amtsübergabe
DESCRIPTION:Webseite: http://www.hirschen-erlinsbach.ch
URL:https://rotary-olten.ch/de/agenda/show/30128
DTSTART;TZID=Europe/Zurich:20130701T183000
DTEND;TZID=Europe/Zurich:20130701T183000
LOCATION:Restaurant Hirschen\, Erlinsbach
CATEGORIES:Rotary
END:VEVENT
BEGIN:VTIMEZONE
TZID:Europe/Zurich
BEGIN:DAYLIGHT
DTSTART:20130701T183000
TZNAME:CEST
TZOFFSETTO:+0200
TZOFFSETFROM:+0200
END:DAYLIGHT
END:VTIMEZONE
END:VCALENDAR
