BEGIN:VCALENDAR
PRODID:-//eluceo/ical//2.0/EN
VERSION:2.0
CALSCALE:GREGORIAN
BEGIN:VEVENT
UID:db9ca3d1ff8ba4bc7eb3f2aa139eb981
DTSTAMP:20260421T183256Z
SUMMARY:Rotarisches Gipfeli-Treffen ABGESAGT
DESCRIPTION:Jeden ersten Freitag im Monat treffen sich Rotarierinnen und Ro
 tarier der Clubs aus Olten und Umgebung zu Kaffee und Gipfeli im Restauran
 t Pure (Hotel Arte) in Olten.\n\nGäste sind allzeit herzlich willkommen!
URL:https://rotary-olten.ch/en/agenda/show/112257
DTSTART;TZID=Europe/Zurich:20210305T071500
DTEND;TZID=Europe/Zurich:20210305T080000
LOCATION:ABGESAGT
CATEGORIES:Rotary
END:VEVENT
BEGIN:VTIMEZONE
TZID:Europe/Zurich
BEGIN:STANDARD
DTSTART:20210305T071500
TZNAME:CET
TZOFFSETTO:+0100
TZOFFSETFROM:+0100
END:STANDARD
END:VTIMEZONE
END:VCALENDAR
