BEGIN:VCALENDAR
PRODID:-//eluceo/ical//2.0/EN
VERSION:2.0
CALSCALE:GREGORIAN
BEGIN:VEVENT
UID:698c5316ce47cec2b8fa9ba638783cbb
DTSTAMP:20260421T182909Z
SUMMARY:Regio Apéro
DESCRIPTION:Jeden zweiten Mittwoch im Monat treffen sich Rotarierinnen und
  Rotarier der Clubs aus Olten\, Olten-West\, Gösgen Niederamt\, Balsthal 
 und Zofingen zum Regio-Apéro im Restaurant stadtbad* in der Oltner Altsta
 dt.\n\nGäste sind allzeit herzlich willkommen!\nWebsite: http://www.rest
 aurant-stadtbad.ch
URL:https://rotary-olten.ch/en/agenda/show/112274
DTSTART;TZID=Europe/Zurich:20200909T180000
DTEND;TZID=Europe/Zurich:20200909T190000
LOCATION:Restaurant stadtbad*
CATEGORIES:Rotary
END:VEVENT
BEGIN:VTIMEZONE
TZID:Europe/Zurich
BEGIN:DAYLIGHT
DTSTART:20200909T180000
TZNAME:CEST
TZOFFSETTO:+0200
TZOFFSETFROM:+0200
END:DAYLIGHT
END:VTIMEZONE
END:VCALENDAR
