BEGIN:VCALENDAR
PRODID:-//eluceo/ical//2.0/EN
VERSION:2.0
CALSCALE:GREGORIAN
BEGIN:VEVENT
UID:131e4a7e6979da5e6bb4c94a186c8005
DTSTAMP:20260423T100754Z
SUMMARY:Plauderlunch
DESCRIPTION:Menu: Pilzcrèmesuppe\n* * *\nSaltimbocca von der Poulardenkeul
 e an Salbeijus\nserviert mit Tomatenrisotto und Romanesco\n\noder\n\nRahm-
 Gemüse im Blätterteigkissen mit Bärlauch-Kartoffelgnocchi\n\n* * *\n\n
 Menüpreis: Fr. 35.--\n(nebst dem Menü sind 1 Glas Wein oder 1 Bier\, Min
 eralwasser und Kaffee inbegriffen)\n\n \n\nSüsse „Versuchung“   (F
 r. 8.--)\n\nPfirsich "Melba" Pochierter Pfirsich mit Vanilleglace und Him
 beersauce\nWebsite: http://www.aarhof.ch
URL:https://rotary-olten.ch/en/agenda/show/114576
DTSTART;TZID=Europe/Zurich:20200706T120000
DTEND;TZID=Europe/Zurich:20200706T133000
LOCATION:Restaurant Aarhof
CATEGORIES:Rotary
END:VEVENT
BEGIN:VTIMEZONE
TZID:Europe/Zurich
BEGIN:DAYLIGHT
DTSTART:20200706T120000
TZNAME:CEST
TZOFFSETTO:+0200
TZOFFSETFROM:+0200
END:DAYLIGHT
END:VTIMEZONE
END:VCALENDAR
