BEGIN:VCALENDAR
PRODID:-//eluceo/ical//2.0/EN
VERSION:2.0
CALSCALE:GREGORIAN
BEGIN:VEVENT
UID:b2abcda65e0b3e1bb419fd216bdc1526
DTSTAMP:20260421T183139Z
SUMMARY:Als Ersatz: Plauderlunch
DESCRIPTION:Wie ich gerade von Thomas Rhiner erfahre\, können wir am näch
 sten Montag einen Plauderlunch im Aarhof durchführen. Anmeldung aufgrund 
 der aktuellen Situation unbedingt erforderlich bis Monatag\, 26.10.2020\, 
 09:00 Uhr. Vielen Dank.\nMenu: Marroni Cremesuppe mit Amaretti-Crumble\n* 
 * *\nGeschmorte Hirsch-Roulade mit Pfifferlingen\nserviert mit Baumnuss-Sp
 ätzli und Rosenkohl-Gemüse\n\noder\n\nPilzragout im Blätterteigkissen 
 auf Rahmwirsing mit Schupfnudeln\n\n \n\nMenüpreis: Fr. 35.--\n(nebst de
 m Menü sind 1 Glas Wein oder 1 Bier\, Mineralwasser und Kaffee inbegriffe
 n)\n\n \n\nSüsse „Versuchung“   (Fr. 8.--)\n\nWilliams-Birne mit S
 chokoladen-Kokosnuss-Glace
URL:https://rotary-olten.ch/en/agenda/show/118949
DTSTART;TZID=Europe/Zurich:20201026T120000
DTEND;TZID=Europe/Zurich:20201026T133000
LOCATION:Restaurant Aarhof
CATEGORIES:Rotary
END:VEVENT
BEGIN:VTIMEZONE
TZID:Europe/Zurich
BEGIN:STANDARD
DTSTART:20201026T120000
TZNAME:CET
TZOFFSETTO:+0100
TZOFFSETFROM:+0100
END:STANDARD
END:VTIMEZONE
END:VCALENDAR
