BEGIN:VCALENDAR
PRODID:-//eluceo/ical//2.0/EN
VERSION:2.0
CALSCALE:GREGORIAN
BEGIN:VEVENT
UID:b8a60f059e6768f74163a7fcffc0437b
DTSTAMP:20260422T190359Z
SUMMARY:Förderpreis-Gewinnerin BBZ Olten
DESCRIPTION:Förderpreis gesponsert durch Rotary Olten\nSpeaker(s): J. Papa
 zikakis
URL:https://rotary-olten.ch/en/agenda/show/21542
DTSTART;TZID=Europe/Zurich:20120319T120000
DTEND;TZID=Europe/Zurich:20120319T120000
LOCATION:Bahnhofbuffet Olten\, 1. Stock
CATEGORIES:Rotary
END:VEVENT
BEGIN:VTIMEZONE
TZID:Europe/Zurich
BEGIN:STANDARD
DTSTART:20120319T120000
TZNAME:CET
TZOFFSETTO:+0100
TZOFFSETFROM:+0100
END:STANDARD
END:VTIMEZONE
END:VCALENDAR
