BEGIN:VCALENDAR
PRODID:-//eluceo/ical//2.0/EN
VERSION:2.0
CALSCALE:GREGORIAN
BEGIN:VEVENT
UID:08be36fda1ae76dcbaba3b7374cb6be8
DTSTAMP:20260419T124921Z
SUMMARY:Interclub-Anlass: Warum wir so reich sind.
DESCRIPTION:Anmeldung direkt bei Edi Baumgartner (edi.baumgartner@wangenbo.
 ch).\nSpeaker(s): Rudolf Strahm
URL:https://rotary-olten.ch/en/agenda/show/22214
DTSTART;TZID=Europe/Zurich:20120402T183000
DTEND;TZID=Europe/Zurich:20120402T183000
LOCATION:Restaurant Aarhof\, 1. Stock
CATEGORIES:Rotary
END:VEVENT
BEGIN:VTIMEZONE
TZID:Europe/Zurich
BEGIN:DAYLIGHT
DTSTART:20120402T183000
TZNAME:CEST
TZOFFSETTO:+0200
TZOFFSETFROM:+0200
END:DAYLIGHT
END:VTIMEZONE
END:VCALENDAR
