BEGIN:VCALENDAR
PRODID:-//eluceo/ical//2.0/EN
VERSION:2.0
CALSCALE:GREGORIAN
BEGIN:VEVENT
UID:2a09ad60e8a8bb61adc2c5c7d545128c
DTSTAMP:20260419T130527Z
SUMMARY:Regio-Apéro
DESCRIPTION:
URL:https://rotary-olten.ch/en/agenda/show/22216
DTSTART;TZID=Europe/Zurich:20120418T180000
DTEND;TZID=Europe/Zurich:20120418T180000
LOCATION:Hotel Olten\, Olten
CATEGORIES:Rotary
END:VEVENT
BEGIN:VTIMEZONE
TZID:Europe/Zurich
BEGIN:DAYLIGHT
DTSTART:20120418T180000
TZNAME:CEST
TZOFFSETTO:+0200
TZOFFSETFROM:+0200
END:DAYLIGHT
END:VTIMEZONE
END:VCALENDAR
