BEGIN:VCALENDAR
PRODID:-//eluceo/ical//2.0/EN
VERSION:2.0
CALSCALE:GREGORIAN
BEGIN:VEVENT
UID:4d6c1fdd0d033ecfd629977cc158fbe7
DTSTAMP:20260419T143409Z
SUMMARY:Plauderlunch
DESCRIPTION:
URL:https://rotary-olten.ch/en/agenda/show/22217
DTSTART;TZID=Europe/Zurich:20120423T120000
DTEND;TZID=Europe/Zurich:20120423T120000
LOCATION:Bahnhofbuffet Olten\, 1. Stock
CATEGORIES:Rotary
END:VEVENT
BEGIN:VTIMEZONE
TZID:Europe/Zurich
BEGIN:DAYLIGHT
DTSTART:20120423T120000
TZNAME:CEST
TZOFFSETTO:+0200
TZOFFSETFROM:+0200
END:DAYLIGHT
END:VTIMEZONE
END:VCALENDAR
