BEGIN:VCALENDAR
PRODID:-//eluceo/ical//2.0/EN
VERSION:2.0
CALSCALE:GREGORIAN
BEGIN:VEVENT
UID:894ba34e420074133ac85566b5c3c11a
DTSTAMP:20260422T204513Z
SUMMARY:Mein Jahr in Südamerika
DESCRIPTION:Yolanda von Wartburg wird von ihrem Jahr in Südamerika bericht
 en.\nSpeaker(s): Yolanda von Wartburg
URL:https://rotary-olten.ch/en/agenda/show/24117
DTSTART;TZID=Europe/Zurich:20120903T120000
DTEND;TZID=Europe/Zurich:20120903T120000
LOCATION:Restaurant Aarhof Olten
CATEGORIES:Rotary
END:VEVENT
BEGIN:VTIMEZONE
TZID:Europe/Zurich
BEGIN:DAYLIGHT
DTSTART:20120903T120000
TZNAME:CEST
TZOFFSETTO:+0200
TZOFFSETFROM:+0200
END:DAYLIGHT
END:VTIMEZONE
END:VCALENDAR
