BEGIN:VCALENDAR
PRODID:-//eluceo/ical//2.0/EN
VERSION:2.0
CALSCALE:GREGORIAN
BEGIN:VEVENT
UID:952ca04f5d6a565a2e97779f2c09ae69
DTSTAMP:20260422T184840Z
SUMMARY:Golf Charity Turnier
DESCRIPTION:sep. Einladung
URL:https://rotary-olten.ch/en/agenda/show/24118
DTSTART;TZID=Europe/Zurich:20120905T000000
DTEND;TZID=Europe/Zurich:20120905T000000
LOCATION:Golfplatz Heidenthal\, Stüsslingen
CATEGORIES:Rotary
END:VEVENT
BEGIN:VTIMEZONE
TZID:Europe/Zurich
BEGIN:DAYLIGHT
DTSTART:20120905T000000
TZNAME:CEST
TZOFFSETTO:+0200
TZOFFSETFROM:+0200
END:DAYLIGHT
END:VTIMEZONE
END:VCALENDAR
