BEGIN:VCALENDAR
PRODID:-//eluceo/ical//2.0/EN
VERSION:2.0
CALSCALE:GREGORIAN
BEGIN:VEVENT
UID:63446093bedb57c8ac89c0c670164531
DTSTAMP:20260422T185458Z
SUMMARY:Präsenz-Apéro
DESCRIPTION:
URL:https://rotary-olten.ch/en/agenda/show/26288
DTSTART;TZID=Europe/Zurich:20121008T173000
DTEND;TZID=Europe/Zurich:20121008T173000
LOCATION:Café Ring\, Olten
CATEGORIES:Rotary
END:VEVENT
BEGIN:VTIMEZONE
TZID:Europe/Zurich
BEGIN:DAYLIGHT
DTSTART:20121008T173000
TZNAME:CEST
TZOFFSETTO:+0200
TZOFFSETFROM:+0200
END:DAYLIGHT
END:VTIMEZONE
END:VCALENDAR
