BEGIN:VCALENDAR
PRODID:-//eluceo/ical//2.0/EN
VERSION:2.0
CALSCALE:GREGORIAN
BEGIN:VEVENT
UID:7444ff5c1f967229d43767d1f90ab5bf
DTSTAMP:20260421T202010Z
SUMMARY:Kein Mittagslunch
DESCRIPTION:
URL:https://rotary-olten.ch/en/agenda/show/79180
DTSTART;TZID=Europe/Zurich:20171225T000000
DTEND;TZID=Europe/Zurich:20171225T000000
LOCATION:-
CATEGORIES:Rotary
END:VEVENT
BEGIN:VTIMEZONE
TZID:Europe/Zurich
BEGIN:STANDARD
DTSTART:20171225T000000
TZNAME:CET
TZOFFSETTO:+0100
TZOFFSETFROM:+0100
END:STANDARD
END:VTIMEZONE
END:VCALENDAR
