BEGIN:VCALENDAR
PRODID:-//eluceo/ical//2.0/EN
VERSION:2.0
CALSCALE:GREGORIAN
BEGIN:VEVENT
UID:a9ece18f4c889161fdd074bb88f1a60c
DTSTAMP:20260421T201713Z
SUMMARY:Generalversammlung
DESCRIPTION:Menu: Rucolacrèmesuppe mit Blätterteig-Gebäck\n* * *\nMaispo
 ulardenbrust gefüllt mit Tomaten & Mozzarella\n\nserviert mit Pilawreis u
 nd glacierten Rüebli\n\noder\n\nSpargelrisotto mit gebratenen Eiernudeln\
 n\n* * *\n\nMenüpreis: Fr. 35.--\n(nebst Menü sind 1 Glas Wein oder 1 Bi
 er\, Mineralwasser und 1 Kaffee inbegriffen)\n\n\nSüsse „Versuchung“ 
   (Fr. 8.--)\n\nErdbeer-Quark-Knödel auf marinierten Erdbeeren
URL:https://rotary-olten.ch/en/agenda/show/84243
DTSTART;TZID=Europe/Zurich:20180423T120000
DTEND;TZID=Europe/Zurich:20180423T140000
LOCATION:Restaurant Aarhof
CATEGORIES:Rotary
END:VEVENT
BEGIN:VTIMEZONE
TZID:Europe/Zurich
BEGIN:DAYLIGHT
DTSTART:20180423T120000
TZNAME:CEST
TZOFFSETTO:+0200
TZOFFSETFROM:+0200
END:DAYLIGHT
END:VTIMEZONE
END:VCALENDAR
