BEGIN:VCALENDAR
PRODID:-//eluceo/ical//2.0/EN
VERSION:2.0
CALSCALE:GREGORIAN
BEGIN:VEVENT
UID:ae30edaf35f40a143b7e00e0efe400dd
DTSTAMP:20260420T025030Z
SUMMARY:Hotel Arte\, Restaurant Pure
DESCRIPTION:Sitio web: http://www.konferenzhotel.ch/de/Restaurants/pure-Res
 taurant
URL:https://rotary-olten.ch/es/agenda/show/163228
DTSTART;TZID=Europe/Zurich:20240321T061500
DTEND;TZID=Europe/Zurich:20240321T070000
LOCATION:Hotel Arte\, Restaurant Pure
CATEGORIES:Rotary
END:VEVENT
BEGIN:VTIMEZONE
TZID:Europe/Zurich
BEGIN:STANDARD
DTSTART:20240321T061500
TZNAME:CET
TZOFFSETTO:+0100
TZOFFSETFROM:+0100
END:STANDARD
END:VTIMEZONE
END:VCALENDAR
