BEGIN:VCALENDAR
PRODID:-//eluceo/ical//2.0/EN
VERSION:2.0
CALSCALE:GREGORIAN
BEGIN:VEVENT
UID:fc579dad5a932a6945fb650d040cbafb
DTSTAMP:20260420T062746Z
SUMMARY:Plauderlunch
DESCRIPTION:Sitio web: http://www.hotelolten.ch\nOrador(es): 
URL:https://rotary-olten.ch/es/agenda/show/176258
DTSTART;TZID=Europe/Zurich:20240429T120000
DTEND;TZID=Europe/Zurich:20240429T133000
LOCATION:Hotel Olten\, Bahnhofstrasse 5\, 4600 Olten\, Schweiz
CATEGORIES:Rotary
END:VEVENT
BEGIN:VTIMEZONE
TZID:Europe/Zurich
BEGIN:DAYLIGHT
DTSTART:20240429T120000
TZNAME:CEST
TZOFFSETTO:+0200
TZOFFSETFROM:+0200
END:DAYLIGHT
END:VTIMEZONE
END:VCALENDAR
