BEGIN:VCALENDAR
PRODID:-//eluceo/ical//2.0/EN
VERSION:2.0
CALSCALE:GREGORIAN
BEGIN:VEVENT
UID:3c104ed128c1b01eefbfab8f173ff58d
DTSTAMP:20260422T112641Z
SUMMARY:96. Rotary Earlybird
DESCRIPTION:Sitio web: http://www.konferenzhotel.ch/de/Restaurants/pure-Res
 taurant
URL:https://rotary-olten.ch/es/agenda/show/180075
DTSTART;TZID=Europe/Zurich:20250417T061500
DTEND;TZID=Europe/Zurich:20250417T070000
LOCATION:Hotel Arte\, Restaurant Pure
CATEGORIES:Rotary
END:VEVENT
BEGIN:VTIMEZONE
TZID:Europe/Zurich
BEGIN:DAYLIGHT
DTSTART:20250417T061500
TZNAME:CEST
TZOFFSETTO:+0200
TZOFFSETFROM:+0200
END:DAYLIGHT
END:VTIMEZONE
END:VCALENDAR
