BEGIN:VCALENDAR
PRODID:-//eluceo/ical//2.0/EN
VERSION:2.0
CALSCALE:GREGORIAN
BEGIN:VEVENT
UID:66874e8193b83b98d7bd49b1c26c806b
DTSTAMP:20260419T192000Z
SUMMARY:Transport in der Schweiz
DESCRIPTION:Orador(es): Andreas Mistele
URL:https://rotary-olten.ch/es/agenda/show/23111
DTSTART;TZID=Europe/Zurich:20120611T120000
DTEND;TZID=Europe/Zurich:20120611T120000
LOCATION:Bahnhofbuffet Olten\, 1. Stock
CATEGORIES:Rotary
END:VEVENT
BEGIN:VTIMEZONE
TZID:Europe/Zurich
BEGIN:DAYLIGHT
DTSTART:20120611T120000
TZNAME:CEST
TZOFFSETTO:+0200
TZOFFSETFROM:+0200
END:DAYLIGHT
END:VTIMEZONE
END:VCALENDAR
