BEGIN:VCALENDAR
PRODID:-//eluceo/ical//2.0/EN
VERSION:2.0
CALSCALE:GREGORIAN
BEGIN:VEVENT
UID:bed35bd356320e768d962a8012e57877
DTSTAMP:20260419T210800Z
SUMMARY:1 Jahr Aufenthalt in der Schweiz
DESCRIPTION:Orador(es): Lorenzo Cipelli Alves
URL:https://rotary-olten.ch/es/agenda/show/23114
DTSTART;TZID=Europe/Zurich:20120625T120000
DTEND;TZID=Europe/Zurich:20120625T120000
LOCATION:Bahnhofbuffet Olten\, 1. Stock
CATEGORIES:Rotary
END:VEVENT
BEGIN:VTIMEZONE
TZID:Europe/Zurich
BEGIN:DAYLIGHT
DTSTART:20120625T120000
TZNAME:CEST
TZOFFSETTO:+0200
TZOFFSETFROM:+0200
END:DAYLIGHT
END:VTIMEZONE
END:VCALENDAR
