BEGIN:VCALENDAR
PRODID:-//eluceo/ical//2.0/EN
VERSION:2.0
CALSCALE:GREGORIAN
BEGIN:VEVENT
UID:98b1431e123b6ef473f7c5fa8d7bacef
DTSTAMP:20260424T090424Z
SUMMARY:Governorbesuch
DESCRIPTION:Orador(es): DG Paul Meier
URL:https://rotary-olten.ch/es/agenda/show/26295
DTSTART;TZID=Europe/Zurich:20121112T120000
DTEND;TZID=Europe/Zurich:20121112T120000
LOCATION:Restaurant Aarhof
CATEGORIES:Rotary
END:VEVENT
BEGIN:VTIMEZONE
TZID:Europe/Zurich
BEGIN:STANDARD
DTSTART:20121112T120000
TZNAME:CET
TZOFFSETTO:+0100
TZOFFSETFROM:+0100
END:STANDARD
END:VTIMEZONE
END:VCALENDAR
