BEGIN:VCALENDAR
PRODID:-//eluceo/ical//2.0/EN
VERSION:2.0
CALSCALE:GREGORIAN
BEGIN:VEVENT
UID:8233f498c2e9ef3ce4263aa19e9a80fe
DTSTAMP:20260421T101048Z
SUMMARY:Rotarisches Gipfeli-Treffen
DESCRIPTION:Jeden ersten Freitag im Monat treffen sich Rotarierinnen und Ro
 tarier der Clubs aus Olten und Umgebung zu Kaffee und Gipfeli im Restauran
 t Pure (Hotel Arte) in Olten.\n\nGäste sind allzeit herzlich willkommen!
 \nSitio web: https://www.konferenzhotel.ch/de/Restaurants/pure-Restaurant
URL:https://rotary-olten.ch/es/agenda/show/73859
DTSTART;TZID=Europe/Zurich:20180202T071500
DTEND;TZID=Europe/Zurich:20180202T080000
LOCATION:Hotel Olten\, Restaurant Pure
CATEGORIES:Rotary
END:VEVENT
BEGIN:VTIMEZONE
TZID:Europe/Zurich
BEGIN:STANDARD
DTSTART:20180202T071500
TZNAME:CET
TZOFFSETTO:+0100
TZOFFSETFROM:+0100
END:STANDARD
END:VTIMEZONE
END:VCALENDAR
