BEGIN:VCALENDAR
PRODID:-//eluceo/ical//2.0/EN
VERSION:2.0
CALSCALE:GREGORIAN
BEGIN:VEVENT
UID:016471163185969fdc16ed715964838d
DTSTAMP:20260420T115846Z
SUMMARY:Rotarischer Earlybird
DESCRIPTION:Alle rotarischen Frühaufsteher treffen sich am Donnerstag\, de
 n 8. Juni 2017 ab 06:20 Uhr im Restaurant Pure (Hotel Arte) in Olten zum 
 „early Bird“\, unserem rotarischen Frühstück mit rotarischer Inspira
 tion.\n\nFreuen dürfen wir uns auf die Gedanken zu Rotary unseres rotaris
 chen Freundes Dr. Lukas Eisner.\n\nDas Frühstücksbuffet à Diskretion ko
 stet 25 Franken. Nur Kaffee- oder Teetrinker bezahlen\, was sie konsumiere
 n.\nSitio web: https://www.konferenzhotel.ch/de/Restaurants/pure-Restauran
 t\nOrador(es): Rotarier Lukas Eisner (RC Olten)
URL:https://rotary-olten.ch/es/agenda/show/74311
DTSTART;TZID=Europe/Zurich:20170608T062000
DTEND;TZID=Europe/Zurich:20170608T072000
LOCATION:Hotel Arte\, Restaurant Pure
CATEGORIES:Rotary
END:VEVENT
BEGIN:VTIMEZONE
TZID:Europe/Zurich
BEGIN:DAYLIGHT
DTSTART:20170608T062000
TZNAME:CEST
TZOFFSETTO:+0200
TZOFFSETFROM:+0200
END:DAYLIGHT
END:VTIMEZONE
END:VCALENDAR
