BEGIN:VCALENDAR
PRODID:-//eluceo/ical//2.0/EN
VERSION:2.0
CALSCALE:GREGORIAN
BEGIN:VEVENT
UID:8c83cd81f3776e99ec14076c21b46c1b
DTSTAMP:20260421T100843Z
SUMMARY:Rotarischer Earlybird
DESCRIPTION:Alle rotarischen Frühaufsteher treffen sich am Donnerstag\, de
 n 15. März 2018 ab 06:20 Uhr im Restaurant Pure (Hotel Arte) in Olten zu
 m „Early Bird“\, unserem rotarischen Frühstück mit rotarischer Inspi
 ration.\n\nDas Frühstücksbuffet à Diskretion kostet 25 Franken. Nur Kaf
 fee- oder Teetrinker bezahlen\, was sie konsumieren.\nSitio web: https://w
 ww.konferenzhotel.ch/de/Restaurants/pure-Restaurant\nOrador(es): Christian
  Wüthrich (RC Olten)
URL:https://rotary-olten.ch/es/agenda/show/84745
DTSTART;TZID=Europe/Zurich:20180315T062000
DTEND;TZID=Europe/Zurich:20180315T072000
LOCATION:Hotel Arte\, Restaurant Pure
CATEGORIES:Rotary
END:VEVENT
BEGIN:VTIMEZONE
TZID:Europe/Zurich
BEGIN:STANDARD
DTSTART:20180315T062000
TZNAME:CET
TZOFFSETTO:+0100
TZOFFSETFROM:+0100
END:STANDARD
END:VTIMEZONE
END:VCALENDAR
