BEGIN:VCALENDAR
PRODID:-//eluceo/ical//2.0/EN
VERSION:2.0
CALSCALE:GREGORIAN
BEGIN:VEVENT
UID:c822f615c164cead31f97723b2594184
DTSTAMP:20260424T183332Z
SUMMARY:Regio Apéro
DESCRIPTION:Jeden dritten Mittwoch im Monat treffen sich Rotarierinnen un
 d Rotarier der Clubs aus Olten\, Olten-West\, Gösgen Niederamt\, Balsthal
  und Zofingen zum Regio-Apéro im Restaurant stadtbad* in der Oltner Altst
 adt.\n\nGäste sind allzeit herzlich willkommen!\nSitio web: http://www.r
 estaurant-stadtbad.ch
URL:https://rotary-olten.ch/es/agenda/show/87845
DTSTART;TZID=Europe/Zurich:20181017T180000
DTEND;TZID=Europe/Zurich:20181017T190000
LOCATION:Restaurant stadtbad*
CATEGORIES:Rotary
END:VEVENT
BEGIN:VTIMEZONE
TZID:Europe/Zurich
BEGIN:DAYLIGHT
DTSTART:20181017T180000
TZNAME:CEST
TZOFFSETTO:+0200
TZOFFSETFROM:+0200
END:DAYLIGHT
END:VTIMEZONE
END:VCALENDAR
